BEGIN:VCALENDAR
VERSION:2.0
CALSCALE:GREGORIAN
PRODID:-//MyApp//Calendar 1.0//EN
BEGIN:VEVENT
METHOD:PUBLISH
UID:65721@regionalniportaly.cz
DTSTAMP:20260422T222634Z
DTSTART;VALUE=DATE:20260516
DTEND;VALUE=DATE:20260517
SUMMARY:Příběhy rodin Ištvanových/Ištvánových: Stíny holokaustu a hledání kořenů
DESCRIPTION:Kdy: 16. 5. 2026 od 10.30 h\nKde: Přednáškový sál Památníku holokaustu Romů a Sintů na Moravě\, Hodonín u Kunštátu 76\nPřednáška Lady Vikové (KSKA FF Univerzita Pardubice) a Jany Hachové (soukromá badatelka) vás provede pátráním po stopách vybraných rodin z Blanenska a jižní Moravy s příjmením Ištvan/Ištván\, které se staly obětí nacistické perzekuce a přiblíží osudy moravských Romů a Sintů\, jejichž rodinnou historii násilně přetrhla válka.\nZ Brna bude vypraven autobus zdarma. Sraz před budovou Muzea romské kultury (Bratislavská 67) bude v 8.45 h. Další zastávka bude v Doubravici nad Svitavou v 9.40 h.  Místo je nutné rezervovat nejpozději do 7. 5. na e-mailu: hodonin@rommuz.cz nebo tel.: +420 775 403 155. Návrat do Doubravice bude asi 12.15 h a do Brna ve 13 h. \n Vstup na akci je ZDARMA.
LOCATION:Hodonín
END:VEVENT
END:VCALENDAR