BEGIN:VCALENDAR
VERSION:2.0
CALSCALE:GREGORIAN
PRODID:-//MyApp//Calendar 1.0//EN
BEGIN:VEVENT
METHOD:PUBLISH
UID:65720@regionalniportaly.cz
DTSTAMP:20260422T223132Z
DTSTART;VALUE=DATE:20260508
DTEND;VALUE=DATE:20260509
SUMMARY:Připomenutí Dne vítězství
DESCRIPTION:Na Den vítězství si každoročně připomínáme konec II. světové války. Letos jde již o 81. výročí. Při této příležitosti Památník holokaustu Romů a Sintů na Moravě pořádá komentované prohlídky areálu zdarma. Prohlídky budou začínat v 10\, 12 a 14 h.\nOd 16 h potom bude následovat přednáška Prlovská tragédie (Daniel Gargulák\, správce Muzea prlovské tragédie – pietní místnost) a beseda s potomky romského partyzána Antonína Murky (Cecílie Machovčáková\, Rudolf Murka)\nVSTUP ZDARMA (nebo dobrovolný příspěvek).
LOCATION:Hodonín
END:VEVENT
END:VCALENDAR