BEGIN:VCALENDAR
VERSION:2.0
CALSCALE:GREGORIAN
PRODID:-//MyApp//Calendar 1.0//EN
BEGIN:VEVENT
METHOD:PUBLISH
UID:62307@regionalniportaly.cz
DTSTAMP:20260423T012138Z
DTSTART;VALUE=DATE:20260508
DTEND;VALUE=DATE:20260509
SUMMARY:DEN VÍTĚZSTVÍ – komentované prohlídky zdarma + přednáška a beseda
DESCRIPTION:DEN VÍTĚZSTVÍ – KOMENTOVANÉ PROHLÍDKY ZDARMA + PŘEDNÁŠKA A BESEDA\nNa Den vítězství si každoročně připomínáme konec II. světové války. Letos jde již o 81. výročí. Při této příležitosti Památník holokaustu Romů a Sintů na Moravě pořádá komentované prohlídky areálu zdarma. Prohlídky budou začínat v 10\, 12 a 14 h.\nOd 16 h potom bude následovat přednáška Prlovská tragédie (Daniel Gargulák\, správce Muzea prlovské tragédie – pietní místnost) a beseda s potomky romského partyzána Antonína Murky (Cecílie Machovčáková\, Rudolf Murka)\n \nKOMENTOVANÉ PROHLÍDKY\nKdy:       8. 5. 2026 v 10\, 12 a 14 h\nKde:       sraz před recepcí Památníku holokaustu Romů a Sintů na Moravě\nHodonín u Kunštátu 76\nVSTUP ZDARMA (nebo dobrovolný příspěvek)\n \nPRLOVSKÁ TRAGÉDIE A ROMSKÝ PARTYZÁN ANTONÍN MURKA\nKdy:       8. 5. 2026 v 16 h\nKde:       Přednáškový sál Památníku holokaustu Romů a Sintů na Moravě\nHodonín u Kunštátu 76\nVSTUP ZDARMA (nebo dobrovolný příspěvek)\n \nPřednáška Prlovská tragédie\nPřednáška Daniela Garguláka\, správce Muzea prlovské tragédie\, přiblíží jednu z nejtragičtějších událostí v závěru II. světové války na Valašsku: vypálení obce Prlov německými okupačními silami v dubnu 1945. Objasní bezprostřední příčiny a průběh nacistické odvety\, která stála životy 23 prlovských občanů a vyústila v zničení 8 domů.\n \nBESEDA O ANTONÍNU MURKOVI\nKrátké představení osoby romského partyzána Antonína Murky\, uprchlíka z hodonínského tábora a později partyzána bojujícího proti nacistům na rodném Valašsku a jeho spojení s Prlovem.\nNásledovat bude beseda s paní Cecílií Machovčkákovou a panem Rudolfem Murkou (dcera a synovec Antonína Murky)
LOCATION:Hodonín
END:VEVENT
END:VCALENDAR