BEGIN:VCALENDAR
VERSION:2.0
CALSCALE:GREGORIAN
PRODID:-//MyApp//Calendar 1.0//EN
BEGIN:VEVENT
METHOD:PUBLISH
UID:62257@regionalniportaly.cz
DTSTAMP:20260422T205244Z
DTSTART;VALUE=DATE:20260401
DTEND;VALUE=DATE:20261031
SUMMARY:Vypálené obce
DESCRIPTION:Výstava VYPÁLENÉ OBCE\nTrvání výstavy: 1.4. – 31.10. 2026\nKde: výstavní prostory Baráku dozorců v Památníku holokaustu Romů a Sintů na Moravě\, Hodonín u Kunštátu 76\nOtevírací doba: středa – neděle 10 – 17 h\nVstupné: ZDARMA\n \nDruhá světová válka zanechala v srdci Evropy hluboké rány. Připomeňme si tragické osudy některých obcí\, které byly nacisty vymazány z map.\nProstřednictvím autentických fotografií\, dokumentů a osobních příběhů se ponoříte do osudů nejen českých\, ale i dalších evropských obcí\, jejichž jména se stala symboly válečného teroru.\nAutoři: Památník Lidice\; PhDr. Eduard Stehlík\, Ph.D.\, MBA\; zástupci jednotlivých obcí\n \n \nVýstava VYPÁLENÉ OBCE se skládá z 5 samostatných výstav:\n \n·        SPŘÍZNĚNI OSUDEM\nPředstavuje české a moravské obce\, které byly během druhé světové války nemilosrdně zničeny německými nacisty. Zachycuje příběhy obcí Český Malín\, Leskovec\, Loučka\, Prlov\, Lidice\, Ležáky\, Vařákovy Paseky a Tršice (místní části Zákřov a Přestavlky) a Ploština.\nVýstava vznikla v roce 2024 ve spolupráci Památníku Lidice a Iniciativy pro podporu vypálených obcí. Odborné texty a fotografie poskytli zástupci jednotlivých obcí.\n \n·        LIDICE. PŘÍBĚH ČESKÉ VSI\nTato výstava je věnována památce obyvatel starých Lidic – 192 mužům\, 60 ženám a 88 dětem\, kteří se stali obětmi nacistického násilí. Ale také těm lidickým\, kteří se po 2. světové válce vrátili domů a žili v nových Lidicích bez svých nejbližších až do konce svých dnů.\n \n·        ZAPOMENUTÉ JAVOŘÍČKO\nVýstava přibližuje tragédii v moravské obci Javoříčko ležící nedaleko pohádkového hradu Bouzova. Ta byla nacisty vypálena dne 5. května 1945 a 38 jejich mužských obyvatel bylo povražděno.\n \n·        TRAGÉDIE V ORADOUR-SUR-GLANE 1944-2004\nVýstava představuje vyvraždění francouzské obce Oradour-Sur-Glane jednotkami SS dne 10. června 1944. Toho tragického dne byli zastřeleni téměř všichni muži a v kostele bylo upáleno 247 žen a 205 dětí. Celkem bylo zavražděno 642 civilistů.\n \n·        TRAGÉDIE V TELAVÅGU\nVýstava představuje osud norské obce ležící nedaleko Bergenu\, kterou postihl obdobný osud jako Lidice. Televåg byl v dubnu 1942 srovnán se zemí jako odveta za smrt dvou příslušníků gestapa. Jeho obyvatelé byli odvlečeni do koncentračních táborů.
LOCATION:Hodonín
END:VEVENT
END:VCALENDAR