BEGIN:VCALENDAR
VERSION:2.0
CALSCALE:GREGORIAN
PRODID:-//MyApp//Calendar 1.0//EN
BEGIN:VEVENT
METHOD:PUBLISH
UID:60944@regionalniportaly.cz
DTSTAMP:20260423T042257Z
DTSTART;VALUE=DATE:20251206
DTEND;VALUE=DATE:20251207
SUMMARY:Adventní koncert v Boskovicích
DESCRIPTION:Boskovice se v adventním čase stanou dějištěm výjimečného hudebního setkání. Dvojice špičkových hudebníků Radim Zenkl a Štěpán Baloun přiveze do Sýpky Boskovice program plný lidových melodií\, koled i klasické hudby světových skladatelů v osobitých aranžmá.\nKoncert se uskuteční v sobotu 6. prosince od 19 hodin.\nVstupenky jsou v předprodeji k dispozici za 300 korun\, na místě pak za 350 korun. Zakoupit je lze v Knihářství a Písařství Oujezdských v Boskovicích (Sadová ulice\, Sýpka) a také online na portálu knizecky.cz.
LOCATION:Boskovice
END:VEVENT
END:VCALENDAR