BEGIN:VCALENDAR
VERSION:2.0
CALSCALE:GREGORIAN
PRODID:-//MyApp//Calendar 1.0//EN
BEGIN:VEVENT
METHOD:PUBLISH
UID:53723@regionalniportaly.cz
DTSTAMP:20260421T083416Z
DTSTART;VALUE=DATE:20250517
DTEND;VALUE=DATE:20250518
SUMMARY:Family Food Festival v Boskovicích
DESCRIPTION:Srdečně vás zveme na historicky první ročník Family Food Festivalu CZ v Boskovicích\, který se uskuteční v sobotu 17. května 2025 v parku před zámeckým skleníkem od 10.00 hod.\nČeká vás hostina plná jídla\, osvěžujících drinků a skvělé atmosféry pro celou rodinu.\nPřijďte ochutnat\, pobavit se a užít si skvělou atmosféru! Vstup je zdarma. Pro více informací sledujte Facebook akce.
LOCATION:Boskovice
END:VEVENT
END:VCALENDAR