BEGIN:VCALENDAR
VERSION:2.0
CALSCALE:GREGORIAN
PRODID:-//MyApp//Calendar 1.0//EN
BEGIN:VEVENT
METHOD:PUBLISH
UID:20798@regionalniportaly.cz
DTSTAMP:20260423T015134Z
DTSTART;VALUE=DATE:20190707
DTEND;VALUE=DATE:20190708
SUMMARY:Festival pro židovskou čtvrť Boskovice 4. - 7. 7.
DESCRIPTION:Multižánrový festival Boskovice láká nejen na pestrý program\, ale i na jedinečné kulisy historického města\, které na čtyři červencové dny zaplní kulturním děním 27. ročník festivalu.\n\nIndustriální hiphopeři W.W.W. Neurobeat\, novozélandské noise-punkové duo mr sterile Assembly\, KHOIBA či KITTCHEN & Aid Kid\, Less Bubbey Mayse\, Augenblick (CZ)\, Eliška Sýkorová\, Tellemarkk\n\nVstupné na místě:\nZákladní permanentka – 900 Kč\nStudentská permanentka – 700 Kč
LOCATION:Boskovice
END:VEVENT
END:VCALENDAR